Package: cogena Version: 1.41.0 Command: E:\biocbuild\bbs-3.21-bioc\R\bin\R.exe CMD INSTALL cogena StartedAt: 2025-02-04 16:23:01 -0500 (Tue, 04 Feb 2025) EndedAt: 2025-02-04 16:23:34 -0500 (Tue, 04 Feb 2025) EllapsedTime: 33.8 seconds RetCode: 0 Status: OK