Package: cogeqc Version: 1.11.0 Command: /home/biocbuild/R/R/bin/R CMD build --keep-empty-dirs --no-resave-data cogeqc StartedAt: 2025-01-28 22:01:42 -0000 (Tue, 28 Jan 2025) EndedAt: 2025-01-28 22:04:02 -0000 (Tue, 28 Jan 2025) EllapsedTime: 140.0 seconds RetCode: 0 Status: OK PackageFile: cogeqc_1.11.0.tar.gz PackageFileSize: 2.582 MiB