Package: cogeqc Version: 1.11.0 Command: /home/biocbuild/bbs-3.21-bioc/R/bin/R CMD check --install=check:cogeqc.install-out.txt --library=/home/biocbuild/bbs-3.21-bioc/R/site-library --timings cogeqc_1.11.0.tar.gz StartedAt: 2025-02-04 21:03:59 -0500 (Tue, 04 Feb 2025) EndedAt: 2025-02-04 21:07:40 -0500 (Tue, 04 Feb 2025) EllapsedTime: 221.2 seconds RetCode: 0 Status: OK CheckDir: cogeqc.Rcheck Warnings: 0