Package: cogeqc Version: 1.11.0 Command: /home/biocbuild/bbs-3.21-bioc/R/bin/R CMD INSTALL cogeqc StartedAt: 2025-02-04 15:30:22 -0500 (Tue, 04 Feb 2025) EndedAt: 2025-02-04 15:30:36 -0500 (Tue, 04 Feb 2025) EllapsedTime: 14.1 seconds RetCode: 0 Status: OK