Package: cogeqc Version: 1.11.0 Command: rm -rf cogeqc.buildbin-libdir && mkdir cogeqc.buildbin-libdir && E:\biocbuild\bbs-3.21-bioc\R\bin\R.exe CMD INSTALL --build --library=cogeqc.buildbin-libdir cogeqc_1.11.0.tar.gz StartedAt: 2025-02-10 07:30:09 -0500 (Mon, 10 Feb 2025) EndedAt: 2025-02-10 07:30:36 -0500 (Mon, 10 Feb 2025) EllapsedTime: 27.5 seconds RetCode: 0 Status: OK PackageFile: cogeqc_1.11.0.zip PackageFileSize: 2.426 MiB