Package: cogeqc Version: 1.11.0 Command: chmod a+r cogeqc -R && E:\biocbuild\bbs-3.21-bioc\R\bin\R.exe CMD build --keep-empty-dirs --no-resave-data cogeqc StartedAt: 2025-02-09 17:58:37 -0500 (Sun, 09 Feb 2025) EndedAt: 2025-02-09 18:00:35 -0500 (Sun, 09 Feb 2025) EllapsedTime: 118.4 seconds RetCode: 0 Status: OK PackageFile: cogeqc_1.11.0.tar.gz PackageFileSize: 2.36 MiB