Package: cogeqc Version: 1.11.0 Command: E:\biocbuild\bbs-3.21-bioc\R\bin\R.exe CMD check --no-multiarch --install=check:cogeqc.install-out.txt --library=E:\biocbuild\bbs-3.21-bioc\R\library --no-vignettes --timings cogeqc_1.11.0.tar.gz StartedAt: 2025-02-05 00:17:42 -0500 (Wed, 05 Feb 2025) EndedAt: 2025-02-05 00:20:37 -0500 (Wed, 05 Feb 2025) EllapsedTime: 174.9 seconds RetCode: 0 Status: OK CheckDir: cogeqc.Rcheck Warnings: 0