Package: cogeqc Version: 1.11.0 Command: E:\biocbuild\bbs-3.21-bioc\R\bin\R.exe CMD INSTALL cogeqc StartedAt: 2025-02-09 15:49:04 -0500 (Sun, 09 Feb 2025) EndedAt: 2025-02-09 15:49:30 -0500 (Sun, 09 Feb 2025) EllapsedTime: 26.7 seconds RetCode: 0 Status: OK