Package: cola Version: 2.13.1 Maintainer: Zuguang Gu MaintainerEmail: z.gu at dkfz.de git_url: https://git.bioconductor.org/packages/cola git_branch: devel git_last_commit: 1f071f7 git_last_commit_date: 2025-02-06 04:31:44 -0500 (Thu, 06 Feb 2025)