Package: cola Version: 2.13.1 Command: rm -rf cola.buildbin-libdir && mkdir cola.buildbin-libdir && /Users/biocbuild/BBS/utils/build-universal.sh cola_2.13.1.tar.gz /Library/Frameworks/R.framework/Resources/bin/R cola.buildbin-libdir StartedAt: 2025-02-09 22:10:06 -0500 (Sun, 09 Feb 2025) EndedAt: 2025-02-09 22:10:19 -0500 (Sun, 09 Feb 2025) EllapsedTime: 13.3 seconds RetCode: 0 Status: OK PackageFile: cola_2.13.1.tgz PackageFileSize: 4.639 MiB