Package: cola Version: 2.13.1 Command: /Library/Frameworks/R.framework/Resources/bin/R CMD check --install=check:cola.install-out.txt --library=/Library/Frameworks/R.framework/Resources/library --no-vignettes --timings cola_2.13.1.tar.gz StartedAt: 2025-02-09 18:37:24 -0500 (Sun, 09 Feb 2025) EndedAt: 2025-02-09 18:38:35 -0500 (Sun, 09 Feb 2025) EllapsedTime: 70.9 seconds RetCode: 0 Status: OK CheckDir: cola.Rcheck Warnings: 0