Package: cola Version: 2.13.0 Command: /home/biocbuild/R/R/bin/R CMD INSTALL cola StartedAt: 2025-01-29 20:02:25 -0000 (Wed, 29 Jan 2025) EndedAt: 2025-01-29 20:03:14 -0000 (Wed, 29 Jan 2025) EllapsedTime: 49.6 seconds RetCode: 0 Status: OK