Package: cola Version: 2.13.1 Command: rm -rf cola.buildbin-libdir && mkdir cola.buildbin-libdir && /Users/biocbuild/BBS/utils/build-universal.sh cola_2.13.1.tar.gz /Library/Frameworks/R.framework/Resources/bin/R cola.buildbin-libdir StartedAt: 2025-02-10 00:47:45 -0500 (Mon, 10 Feb 2025) EndedAt: 2025-02-10 00:48:29 -0500 (Mon, 10 Feb 2025) EllapsedTime: 43.8 seconds RetCode: 0 Status: OK PackageFile: cola_2.13.1.tgz PackageFileSize: 4.631 MiB