Package: cola Version: 2.13.1 Command: /Library/Frameworks/R.framework/Resources/bin/R CMD check --install=check:cola.install-out.txt --library=/Library/Frameworks/R.framework/Resources/library --no-vignettes --timings cola_2.13.1.tar.gz StartedAt: 2025-02-09 19:52:49 -0500 (Sun, 09 Feb 2025) EndedAt: 2025-02-09 19:56:22 -0500 (Sun, 09 Feb 2025) EllapsedTime: 213.1 seconds RetCode: 0 Status: OK CheckDir: cola.Rcheck Warnings: 0