Package: cola Version: 2.13.1 Command: /Library/Frameworks/R.framework/Resources/bin/R CMD INSTALL cola StartedAt: 2025-02-09 15:20:20 -0500 (Sun, 09 Feb 2025) EndedAt: 2025-02-09 15:21:00 -0500 (Sun, 09 Feb 2025) EllapsedTime: 39.7 seconds RetCode: 0 Status: OK