Package: cola Version: 2.13.1 Command: /home/biocbuild/bbs-3.21-bioc/R/bin/R CMD check --install=check:cola.install-out.txt --library=/home/biocbuild/bbs-3.21-bioc/R/site-library --timings cola_2.13.1.tar.gz StartedAt: 2025-02-09 21:06:14 -0500 (Sun, 09 Feb 2025) EndedAt: 2025-02-09 21:09:14 -0500 (Sun, 09 Feb 2025) EllapsedTime: 180.2 seconds RetCode: 0 Status: OK CheckDir: cola.Rcheck Warnings: 0