Package: cola Version: 2.13.1 Command: /home/biocbuild/bbs-3.21-bioc/R/bin/R CMD INSTALL cola StartedAt: 2025-02-09 15:14:30 -0500 (Sun, 09 Feb 2025) EndedAt: 2025-02-09 15:15:01 -0500 (Sun, 09 Feb 2025) EllapsedTime: 30.2 seconds RetCode: 0 Status: OK