Package: cola Version: 2.13.1 Command: rm -rf cola.buildbin-libdir && mkdir cola.buildbin-libdir && E:\biocbuild\bbs-3.21-bioc\R\bin\R.exe CMD INSTALL --build --library=cola.buildbin-libdir cola_2.13.1.tar.gz StartedAt: 2025-02-10 07:30:18 -0500 (Mon, 10 Feb 2025) EndedAt: 2025-02-10 07:32:06 -0500 (Mon, 10 Feb 2025) EllapsedTime: 108.2 seconds RetCode: 0 Status: OK PackageFile: cola_2.13.1.zip PackageFileSize: 4.945 MiB