Package: comapr Version: 1.11.1 Command: rm -rf comapr.buildbin-libdir && mkdir comapr.buildbin-libdir && /Users/biocbuild/BBS/utils/build-universal.sh comapr_1.11.1.tar.gz /Library/Frameworks/R.framework/Resources/bin/R comapr.buildbin-libdir StartedAt: 2025-02-04 22:11:59 -0500 (Tue, 04 Feb 2025) EndedAt: 2025-02-04 22:12:22 -0500 (Tue, 04 Feb 2025) EllapsedTime: 22.4 seconds RetCode: 0 Status: OK PackageFile: comapr_1.11.1.tgz PackageFileSize: 1.076 MiB