Package: comapr Version: 1.11.1 Command: /home/biocbuild/R/R/bin/R CMD build --keep-empty-dirs --no-resave-data comapr StartedAt: 2025-01-28 22:02:53 -0000 (Tue, 28 Jan 2025) EndedAt: 2025-01-28 22:04:50 -0000 (Tue, 28 Jan 2025) EllapsedTime: 117.0 seconds RetCode: 0 Status: OK PackageFile: comapr_1.11.1.tar.gz PackageFileSize: 743.9 KiB