Package: comapr Version: 1.11.1 Command: /home/biocbuild/R/R/bin/R CMD check --install=check:comapr.install-out.txt --library=/home/biocbuild/R/R/site-library --no-vignettes --timings comapr_1.11.1.tar.gz StartedAt: 2025-01-28 09:22:25 -0000 (Tue, 28 Jan 2025) EndedAt: 2025-01-28 09:30:48 -0000 (Tue, 28 Jan 2025) EllapsedTime: 503.4 seconds RetCode: 0 Status: WARNINGS CheckDir: comapr.Rcheck Warnings: 5