Package: comapr Version: 1.11.1 Command: rm -rf comapr.buildbin-libdir && mkdir comapr.buildbin-libdir && /Users/biocbuild/BBS/utils/build-universal.sh comapr_1.11.1.tar.gz /Library/Frameworks/R.framework/Resources/bin/R comapr.buildbin-libdir StartedAt: 2025-02-10 00:47:46 -0500 (Mon, 10 Feb 2025) EndedAt: 2025-02-10 00:48:58 -0500 (Mon, 10 Feb 2025) EllapsedTime: 71.4 seconds RetCode: 0 Status: OK PackageFile: comapr_1.11.1.tgz PackageFileSize: 1.072 MiB