Package: comapr Version: 1.11.1 Command: /Library/Frameworks/R.framework/Resources/bin/R CMD INSTALL comapr StartedAt: 2025-02-04 15:27:34 -0500 (Tue, 04 Feb 2025) EndedAt: 2025-02-04 15:28:40 -0500 (Tue, 04 Feb 2025) EllapsedTime: 66.0 seconds RetCode: 0 Status: OK