Package: comapr Version: 1.11.1 Command: /home/biocbuild/bbs-3.21-bioc/R/bin/R CMD build --keep-empty-dirs --no-resave-data comapr StartedAt: 2025-02-04 16:41:55 -0500 (Tue, 04 Feb 2025) EndedAt: 2025-02-04 16:43:15 -0500 (Tue, 04 Feb 2025) EllapsedTime: 80.1 seconds RetCode: 0 Status: OK PackageFile: comapr_1.11.1.tar.gz PackageFileSize: 1.005 MiB