Package: comapr Version: 1.11.1 Command: rm -rf comapr.buildbin-libdir && mkdir comapr.buildbin-libdir && E:\biocbuild\bbs-3.21-bioc\R\bin\R.exe CMD INSTALL --build --library=comapr.buildbin-libdir comapr_1.11.1.tar.gz StartedAt: 2025-02-05 07:41:40 -0500 (Wed, 05 Feb 2025) EndedAt: 2025-02-05 07:42:54 -0500 (Wed, 05 Feb 2025) EllapsedTime: 74.4 seconds RetCode: 0 Status: OK PackageFile: comapr_1.11.1.zip PackageFileSize: 775.9 KiB