Package: comapr Version: 1.11.1 Command: chmod a+r comapr -R && E:\biocbuild\bbs-3.21-bioc\R\bin\R.exe CMD build --keep-empty-dirs --no-resave-data comapr StartedAt: 2025-02-04 17:57:52 -0500 (Tue, 04 Feb 2025) EndedAt: 2025-02-04 17:59:56 -0500 (Tue, 04 Feb 2025) EllapsedTime: 123.4 seconds RetCode: 0 Status: OK PackageFile: comapr_1.11.1.tar.gz PackageFileSize: 632.2 KiB