Package: combi Version: 1.19.0 Command: /home/biocbuild/R/R/bin/R CMD INSTALL combi StartedAt: 2025-01-29 20:22:52 -0000 (Wed, 29 Jan 2025) EndedAt: 2025-01-29 20:23:37 -0000 (Wed, 29 Jan 2025) EllapsedTime: 45.6 seconds RetCode: 0 Status: OK