Package: combi Version: 1.19.0 Command: /home/biocbuild/bbs-3.21-bioc/R/bin/R CMD build --keep-empty-dirs --no-resave-data combi StartedAt: 2025-02-05 16:44:02 -0500 (Wed, 05 Feb 2025) EndedAt: 2025-02-05 16:45:53 -0500 (Wed, 05 Feb 2025) EllapsedTime: 111.1 seconds RetCode: 0 Status: OK PackageFile: combi_1.19.0.tar.gz PackageFileSize: 1.408 MiB