Package: combi Version: 1.19.0 Command: /home/biocbuild/bbs-3.21-bioc/R/bin/R CMD check --install=check:combi.install-out.txt --library=/home/biocbuild/bbs-3.21-bioc/R/site-library --timings combi_1.19.0.tar.gz StartedAt: 2025-02-05 21:08:03 -0500 (Wed, 05 Feb 2025) EndedAt: 2025-02-05 21:15:58 -0500 (Wed, 05 Feb 2025) EllapsedTime: 474.6 seconds RetCode: 0 Status: OK CheckDir: combi.Rcheck Warnings: 0