Package: combi Version: 1.19.0 Command: /home/biocbuild/bbs-3.21-bioc/R/bin/R CMD INSTALL combi StartedAt: 2025-02-05 15:48:28 -0500 (Wed, 05 Feb 2025) EndedAt: 2025-02-05 15:49:00 -0500 (Wed, 05 Feb 2025) EllapsedTime: 32.1 seconds RetCode: 0 Status: OK