Package: combi Version: 1.19.0 Command: chmod a+r combi -R && E:\biocbuild\bbs-3.21-bioc\R\bin\R.exe CMD build --keep-empty-dirs --no-resave-data combi StartedAt: 2025-02-05 18:03:51 -0500 (Wed, 05 Feb 2025) EndedAt: 2025-02-05 18:07:20 -0500 (Wed, 05 Feb 2025) EllapsedTime: 209.5 seconds RetCode: 0 Status: OK PackageFile: combi_1.19.0.tar.gz PackageFileSize: 1.175 MiB