Package: combi Version: 1.19.0 Command: E:\biocbuild\bbs-3.21-bioc\R\bin\R.exe CMD INSTALL combi StartedAt: 2025-02-05 16:44:05 -0500 (Wed, 05 Feb 2025) EndedAt: 2025-02-05 16:45:06 -0500 (Wed, 05 Feb 2025) EllapsedTime: 61.6 seconds RetCode: 0 Status: OK