Package: compEpiTools Version: 1.41.0 Command: /home/biocbuild/bbs-3.21-bioc/R/bin/R CMD build --keep-empty-dirs --no-resave-data compEpiTools StartedAt: 2025-02-09 16:45:03 -0500 (Sun, 09 Feb 2025) EndedAt: 2025-02-09 16:46:30 -0500 (Sun, 09 Feb 2025) EllapsedTime: 87.1 seconds RetCode: 0 Status: OK PackageFile: compEpiTools_1.41.0.tar.gz PackageFileSize: 2.166 MiB