Package: compEpiTools Version: 1.41.0 Command: rm -rf compEpiTools.buildbin-libdir && mkdir compEpiTools.buildbin-libdir && E:\biocbuild\bbs-3.21-bioc\R\bin\R.exe CMD INSTALL --build --library=compEpiTools.buildbin-libdir compEpiTools_1.41.0.tar.gz StartedAt: 2025-02-13 07:41:16 -0500 (Thu, 13 Feb 2025) EndedAt: 2025-02-13 07:43:04 -0500 (Thu, 13 Feb 2025) EllapsedTime: 108.4 seconds RetCode: 0 Status: OK PackageFile: compEpiTools_1.41.0.zip PackageFileSize: 2.349 MiB