Package: compcodeR Version: 1.43.0 Maintainer: Charlotte Soneson MaintainerEmail: charlottesoneson at gmail.com git_url: https://git.bioconductor.org/packages/compcodeR git_branch: devel git_last_commit: e1b50cd git_last_commit_date: 2024-12-21 12:49:41 -0500 (Sat, 21 Dec 2024)