Package: compcodeR Version: 1.43.0 Command: /Library/Frameworks/R.framework/Resources/bin/R CMD INSTALL compcodeR StartedAt: 2025-02-09 15:24:51 -0500 (Sun, 09 Feb 2025) EndedAt: 2025-02-09 15:25:08 -0500 (Sun, 09 Feb 2025) EllapsedTime: 17.0 seconds RetCode: 0 Status: OK