Package: compcodeR Version: 1.43.0 Command: /home/biocbuild/bbs-3.21-bioc/R/bin/R CMD build --keep-empty-dirs --no-resave-data compcodeR StartedAt: 2025-02-09 16:45:02 -0500 (Sun, 09 Feb 2025) EndedAt: 2025-02-09 16:45:22 -0500 (Sun, 09 Feb 2025) EllapsedTime: 20.0 seconds RetCode: 0 Status: OK PackageFile: compcodeR_1.43.0.tar.gz PackageFileSize: 4.743 MiB