Package: compcodeR Version: 1.43.0 Command: rm -rf compcodeR.buildbin-libdir && mkdir compcodeR.buildbin-libdir && E:\biocbuild\bbs-3.21-bioc\R\bin\R.exe CMD INSTALL --build --library=compcodeR.buildbin-libdir compcodeR_1.43.0.tar.gz StartedAt: 2025-02-05 07:41:46 -0500 (Wed, 05 Feb 2025) EndedAt: 2025-02-05 07:42:49 -0500 (Wed, 05 Feb 2025) EllapsedTime: 62.9 seconds RetCode: 0 Status: OK PackageFile: compcodeR_1.43.0.zip PackageFileSize: 2.654 MiB