Package: consICA Version: 2.5.0 Command: /home/biocbuild/R/R/bin/R CMD check --install=check:consICA.install-out.txt --library=/home/biocbuild/R/R/site-library --no-vignettes --timings consICA_2.5.0.tar.gz StartedAt: 2025-01-28 09:26:42 -0000 (Tue, 28 Jan 2025) EndedAt: 2025-01-28 09:42:52 -0000 (Tue, 28 Jan 2025) EllapsedTime: 969.7 seconds RetCode: 0 Status: OK CheckDir: consICA.Rcheck Warnings: 0