Package: consICA Version: 2.5.0 Command: /home/biocbuild/bbs-3.21-bioc/R/bin/R CMD build --keep-empty-dirs --no-resave-data consICA StartedAt: 2025-02-12 16:43:20 -0500 (Wed, 12 Feb 2025) EndedAt: 2025-02-12 16:44:48 -0500 (Wed, 12 Feb 2025) EllapsedTime: 88.1 seconds RetCode: 0 Status: OK PackageFile: consICA_2.5.0.tar.gz PackageFileSize: 3.488 MiB