Package: consensus Version: 1.25.0 Command: /Library/Frameworks/R.framework/Resources/bin/R CMD INSTALL consensus StartedAt: 2025-02-09 15:02:51 -0500 (Sun, 09 Feb 2025) EndedAt: 2025-02-09 15:02:54 -0500 (Sun, 09 Feb 2025) EllapsedTime: 3.1 seconds RetCode: 0 Status: OK