Package: consensus Version: 1.25.0 Command: /home/biocbuild/R/R/bin/R CMD build --keep-empty-dirs --no-resave-data consensus StartedAt: 2025-01-28 22:05:18 -0000 (Tue, 28 Jan 2025) EndedAt: 2025-01-28 22:05:26 -0000 (Tue, 28 Jan 2025) EllapsedTime: 8.0 seconds RetCode: 0 Status: OK PackageFile: consensus_1.25.0.tar.gz PackageFileSize: 1.037 MiB