Package: consensus Version: 1.25.0 Command: rm -rf consensus.buildbin-libdir && mkdir consensus.buildbin-libdir && /Users/biocbuild/BBS/utils/build-universal.sh consensus_1.25.0.tar.gz /Library/Frameworks/R.framework/Resources/bin/R consensus.buildbin-libdir StartedAt: 2025-02-05 00:34:29 -0500 (Wed, 05 Feb 2025) EndedAt: 2025-02-05 00:34:34 -0500 (Wed, 05 Feb 2025) EllapsedTime: 5.9 seconds RetCode: 0 Status: OK PackageFile: consensus_1.25.0.tgz PackageFileSize: 1.096 MiB