Package: consensus Version: 1.25.0 Command: /Library/Frameworks/R.framework/Resources/bin/R CMD check --install=check:consensus.install-out.txt --library=/Library/Frameworks/R.framework/Resources/library --no-vignettes --timings consensus_1.25.0.tar.gz StartedAt: 2025-02-09 19:55:21 -0500 (Sun, 09 Feb 2025) EndedAt: 2025-02-09 19:55:55 -0500 (Sun, 09 Feb 2025) EllapsedTime: 34.3 seconds RetCode: 0 Status: OK CheckDir: consensus.Rcheck Warnings: 0