Package: consensus Version: 1.25.0 Command: /Library/Frameworks/R.framework/Resources/bin/R CMD INSTALL consensus StartedAt: 2025-02-04 15:06:34 -0500 (Tue, 04 Feb 2025) EndedAt: 2025-02-04 15:06:55 -0500 (Tue, 04 Feb 2025) EllapsedTime: 20.9 seconds RetCode: 0 Status: OK