Package: consensus Version: 1.25.0 Command: /home/biocbuild/bbs-3.21-bioc/R/bin/R CMD build --keep-empty-dirs --no-resave-data consensus StartedAt: 2025-02-09 16:46:00 -0500 (Sun, 09 Feb 2025) EndedAt: 2025-02-09 16:46:07 -0500 (Sun, 09 Feb 2025) EllapsedTime: 7.0 seconds RetCode: 0 Status: OK PackageFile: consensus_1.25.0.tar.gz PackageFileSize: 970.8 KiB