Package: consensus Version: 1.25.0 Command: rm -rf consensus.buildbin-libdir && mkdir consensus.buildbin-libdir && E:\biocbuild\bbs-3.21-bioc\R\bin\R.exe CMD INSTALL --build --library=consensus.buildbin-libdir consensus_1.25.0.tar.gz StartedAt: 2025-02-10 07:30:59 -0500 (Mon, 10 Feb 2025) EndedAt: 2025-02-10 07:31:15 -0500 (Mon, 10 Feb 2025) EllapsedTime: 16.2 seconds RetCode: 0 Status: OK PackageFile: consensus_1.25.0.zip PackageFileSize: 1.101 MiB