Package: consensus Version: 1.25.0 Command: chmod a+r consensus -R && E:\biocbuild\bbs-3.21-bioc\R\bin\R.exe CMD build --keep-empty-dirs --no-resave-data consensus StartedAt: 2025-02-09 18:02:11 -0500 (Sun, 09 Feb 2025) EndedAt: 2025-02-09 18:02:36 -0500 (Sun, 09 Feb 2025) EllapsedTime: 24.7 seconds RetCode: 0 Status: OK PackageFile: consensus_1.25.0.tar.gz PackageFileSize: 972.1 KiB