Package: consensus Version: 1.25.0 Command: E:\biocbuild\bbs-3.21-bioc\R\bin\R.exe CMD check --no-multiarch --install=check:consensus.install-out.txt --library=E:\biocbuild\bbs-3.21-bioc\R\library --no-vignettes --timings consensus_1.25.0.tar.gz StartedAt: 2025-02-09 23:54:43 -0500 (Sun, 09 Feb 2025) EndedAt: 2025-02-09 23:55:17 -0500 (Sun, 09 Feb 2025) EllapsedTime: 33.9 seconds RetCode: 0 Status: OK CheckDir: consensus.Rcheck Warnings: 0