Package: consensusDE Version: 1.25.0 Command: /Library/Frameworks/R.framework/Resources/bin/R CMD check --install=check:consensusDE.install-out.txt --library=/Library/Frameworks/R.framework/Resources/library --no-vignettes --timings consensusDE_1.25.0.tar.gz StartedAt: 2025-02-09 18:39:26 -0500 (Sun, 09 Feb 2025) EndedAt: 2025-02-09 18:41:30 -0500 (Sun, 09 Feb 2025) EllapsedTime: 123.5 seconds RetCode: 0 Status: OK CheckDir: consensusDE.Rcheck Warnings: 0